BEGIN:VCALENDAR
VERSION:2.0
PRODID:-//wp-events-plugin.com//7.2.3.1//EN
BEGIN:VEVENT
UID:1@dakeynefarm.com
DTSTART:20190810T140000Z
DTEND:20190929T230000Z
DTSTAMP:20190219T190653Z
URL:https://dakeynefarm.com/events/sunflower-maze/
SUMMARY:Sunflower Maze
DESCRIPTION:[gallery columns="5" ids="2743\,2953\,3677\,3066\,2952"]\n\n&nb
 sp\;\nWant to Get Lost in a Field of Sunflowers?\n&nbsp\;\nJoin us\, from 
 the beginning of our very first blooms until the last petal in the field f
 alls\, for our 7th annual Sunflower Maze.\nOpen every day* from August 10t
 h-September 30th\n10am-7pm\n1137 hwy #1 Mount Denson\, Nova Scotia\, Canad
 a\n&nbsp\;GPS:&nbsp\;\nLatitude: 45.028649 | Longitude: -64.157753\nDirect
 ions:\nComing from Halifax:\nTake exit 7 (Falmouth) off 101.. turn right..
  continue on Trunk 1 for 4.5 km.\nComing from the Valley:\nTake exit 8 (Ha
 ntsport) off 101.. turn right.. continue on Trunk 1 for 5.9 km.\n&nbsp\;\n
 The entrance to the field is across from the big grey barn.. if you see th
 e Oreo cows but not the flowers.. look across the road and up.\nAdmission 
 is $10/Adults and $5/kids under 12.\n&nbsp\;\nWant to know more? Click her
 e -&gt\;&nbsp\;Frequently asked Questions&nbsp\;or Here -&gt\; Sunflower M
 aze&nbsp\;\n&nbsp\;\n*Every Day it isn't raining or too wet for our field 
 to open... we will post on Social Media when we are forced to close due to
  weather\n[wpdevart_countdown text_for_day="Days" text_for_hour="Hours" te
 xt_for_minut="Minutes" text_for_second="Seconds" countdown_end_type="date"
  end_date="10-08-2019 10:00" start_time="1550602963" end_time="0\,1\,1" ac
 tion_end_time="hide" content_position="center" top_ditance="10" bottom_dis
 tance="10" ]The Flowers are Bloom'n but not for long.. stop by and visit w
 ith them before it's too late![/wpdevart_countdown]
ATTACH;FMTTYPE=image/jpeg:https://i0.wp.com/dakeynefarm.com/wp-content/upl
 oads/2016/02/farm-and-flowers-1.jpg?fit=900%2C602&ssl=1
LOCATION:Dakeyne Farm\, 1137 Hwy #1\, Mount Denson\, Nova Scotia \, B0P1L0\
 , Canada
X-APPLE-STRUCTURED-LOCATION;VALUE=URI;X-ADDRESS=1137 Hwy #1\, Mount Denson\
 , Nova Scotia \, B0P1L0\, Canada;X-APPLE-RADIUS=100;X-TITLE=Dakeyne Farm:g
 eo:0,0
END:VEVENT
BEGIN:VEVENT
UID:2@dakeynefarm.com
DTSTART;TZID=America/Halifax:20190817T130000
DTEND;TZID=America/Halifax:20190817T150000
DTSTAMP:20190219T215340Z
URL:https://dakeynefarm.com/events/butterfly-release-in-a-field-of-sunflow
 ers/
SUMMARY:Butterfly Release in A field of Sunflowers
DESCRIPTION:[gallery columns="5" ids="3929\,3930\,3931\,3872\,3926"]\n\n&nb
 sp\;\nWant to Release a Butterfly in a field of Sunflowers?\nJoin us Augus
 t 17th at 1pm for our 6th annual Butterfly Release in a field of sunflower
 s.\nFor more information.. Click here -&gt\; Butterfly Release in a field 
 of Sunflowers\n[wpdevart_countdown text_for_day="Days" text_for_hour="Hour
 s" text_for_minut="Minutes" text_for_second="Seconds" countdown_end_type="
 date" end_date="17-08-2019 13:00" start_time="1550608260" end_time="0\,1\,
 1" action_end_time="hide" content_position="center" top_ditance="10" botto
 m_distance="10" ]Aww.. missed it? No worries.. they are all still in the f
 ield.. Now the fun begins.. with a giant game of Hide and Seek with beauti
 ful butterflies in thousands of Sunflowers.[/wpdevart_countdown]
ATTACH;FMTTYPE=image/jpeg:https://i0.wp.com/dakeynefarm.com/wp-content/upl
 oads/2018/02/DSC08344-2.jpg?fit=5456%2C3064&ssl=1
LOCATION:Dakeyne Farm\, 1137 Hwy #1\, Mount Denson\, Nova Scotia \, B0P1L0\
 , Canada
X-APPLE-STRUCTURED-LOCATION;VALUE=URI;X-ADDRESS=1137 Hwy #1\, Mount Denson\
 , Nova Scotia \, B0P1L0\, Canada;X-APPLE-RADIUS=100;X-TITLE=Dakeyne Farm:g
 eo:0,0
END:VEVENT
BEGIN:VEVENT
UID:4@dakeynefarm.com
DTSTART;TZID=America/Halifax:20200815T100000
DTEND;TZID=America/Halifax:20200928T190000
DTSTAMP:20200531T202801Z
URL:https://dakeynefarm.com/events/sunflower-maze-2020/
SUMMARY:Sunflower Maze 2020
DESCRIPTION:Want to Get Lost in a field of Sunflowers?\n&nbsp\;\nWander thr
 ough our field of flowers\,  while watching the tidal Avon River rise and
  fall?\nBring a picnic\, and sit for a bit at the top of the hill watching
  the cows graze in their pasture below\,  the eagles soar above...\nor un
 wind your worries and Go fly a Kite.. we always have a little breeze on ou
 r hill.\nSlow down\, unplug\, create a little joy\, and at the same time..
 . make a few old fashioned kind of memories with your loved ones.\n&nbsp\;
 \nOur field opens when the first flowers begin to bloom in Mid August unti
 l the last petal falls in Mid to late September\n&nbsp\;\nEvery Sunny day 
 (and even some cloudy ones) from 10 am to 7 pm\nDue to Covid19 and to limi
 t the number of people in the field at one time... \nWe are Open by Appoi
 ntment Only\n&nbsp\;\nTo make an appointment during our 2020 Sunflower Sea
 son (August 10- September 25)\nor to find out more...\nPlease text or call
  902-790-0542 or message Sunflowers@DakeyneFarm.com\n\n\nNeed to know mor
 e? Click here ---&gt\; Sunflower Maze\nor here ---&gt\; Frequently Asked Q
 uestions\nOr maybe even here ---&gt\; Butterfly Release in a field of Sunf
 lowers\n[gallery type="slideshow" size="large" ids="4187\,4186\,4185\,4184
 \,4183\,4182\,4181\,4180\,4179\,4165\,3928\,3926\,3930\,3780\,3777\,3779\,
 3774\,3776\,3419\,3418\,3416\,3414\,3413\,3412\,3370\,3066\,3071\,3053\,29
 53\,2944\,2952\,2743\,2627"]\n\n&nbsp\;\n\n&nbsp\;
ATTACH;FMTTYPE=image/jpeg:https://i0.wp.com/dakeynefarm.com/wp-content/upl
 oads/2020/02/DSC03295-scaled.jpg?fit=2560%2C1704&ssl=1
LOCATION:Dakeyne Farm\, 1137 Hwy #1\, Mount Denson\, Nova Scotia\, B0P1L0\,
  Hants County\, Canada
X-APPLE-STRUCTURED-LOCATION;VALUE=URI;X-ADDRESS=1137 Hwy #1\, Mount Denson\
 , Nova Scotia\, B0P1L0\, Hants County\, Canada;X-APPLE-RADIUS=100;X-TITLE=
 Dakeyne Farm:geo:0,0
END:VEVENT
BEGIN:VEVENT
UID:5@dakeynefarm.com
DTSTART;TZID=America/Halifax:20200815T130000
DTEND;TZID=America/Halifax:20200815T160000
DTSTAMP:20200531T232050Z
URL:https://dakeynefarm.com/events/butterfly-release-in-a-field-of-sunflow
 ers-7/
SUMMARY:Butterfly Release in a field of Sunflowers
DESCRIPTION:Want to release your very own butterfly in our field of sunflow
 ers?\nJoin us on August 15th for our 7th Annual Butterfly Release.\nWe sel
 l Butterflies for $20 at 1pm on August 15th\, 2020. We only order about 50
 \, and it is come\, first serve with a limit of 1 per person. If you want 
 to make sure you get a lovely little butterfly to hold in your very own ha
 nds before releasing it into our field.. We will be Pre-ordering Butterfli
 es from now until April 16th\, 2020.\n\n&nbsp\;\nDue to Covid19 and to lim
 it the amount of people in the field at one time.. \nWe are Open by Appoi
 ntment Only\n&nbsp\;\nTo make an appointment to release your very own butt
 erfly on August 15th\nor to find out more...\nPlease text or call 902-790-
 0542 or message Butterflies@DakeyneFarm.com\n&nbsp\;\nTo Find out more.. C
 lick here ---&gt\; Butterfly Release\nor to order a butterfly or two.. Ema
 il: Butterflies@DakeyneFarm.com \n
ATTACH;FMTTYPE=image/jpeg:https://i0.wp.com/dakeynefarm.com/wp-content/upl
 oads/2018/02/DSC08341-2.jpg?fit=5456%2C3064&ssl=1
LOCATION:Dakeyne Farm\, 1137 Hwy #1\, Mount Denson\, Nova Scotia \, B0P1L0\
 , Canada
X-APPLE-STRUCTURED-LOCATION;VALUE=URI;X-ADDRESS=1137 Hwy #1\, Mount Denson\
 , Nova Scotia \, B0P1L0\, Canada;X-APPLE-RADIUS=100;X-TITLE=Dakeyne Farm:g
 eo:0,0
END:VEVENT
BEGIN:VTIMEZONE
TZID:America/Halifax
X-LIC-LOCATION:America/Halifax
BEGIN:DAYLIGHT
DTSTART:20190310T030000
TZOFFSETFROM:-0400
TZOFFSETTO:-0300
TZNAME:ADT
END:DAYLIGHT
BEGIN:STANDARD
DTSTART:20191103T010000
TZOFFSETFROM:-0300
TZOFFSETTO:-0400
TZNAME:AST
END:STANDARD
BEGIN:DAYLIGHT
DTSTART:20200308T030000
TZOFFSETFROM:-0400
TZOFFSETTO:-0300
TZNAME:ADT
END:DAYLIGHT
END:VTIMEZONE
END:VCALENDAR